
BEGIN:VCALENDAR
PRODID:-//Buz Software// Calendar//EN
VERSION:2.0
METHOD:REQUEST
BEGIN:VEVENT
DTSTART:20260612T000000Z
DTEND:2026061100Z
LOCATION:Manitoba Club
TRANSP:OPAQUE
SEQUENCE:0
UID:7879_7879_7879_7879
DTSTAMP:20260421T045000Z
ORGANIZER:CN=Manitoba Club:mailto:gm@manitobaclub.mb.ca
STATUS:CONFIRMED
DESCRIPTION:
SUMMARY:Members Meeting Members | Manitoba Club Dinner
PRIORITY:5
CLASS:PUBLIC
BEGIN:VALARM
TRIGGER:PT180M
ACTION:DISPLAY
DESCRIPTION:Reminder
END:VALARM
END:VEVENT
END:VCALENDAR
