
BEGIN:VCALENDAR
PRODID:-//Buz Software// Calendar//EN
VERSION:2.0
METHOD:REQUEST
BEGIN:VEVENT
DTSTART:20260513T000000Z
DTEND:2026051200Z
LOCATION:Manitoba Club
TRANSP:OPAQUE
SEQUENCE:0
UID:7884_7884_7884_7884
DTSTAMP:20260425T095300Z
ORGANIZER:CN=Manitoba Club:mailto:gm@manitobaclub.mb.ca
STATUS:CONFIRMED
DESCRIPTION:
SUMMARY:Cigar Society | Rocky Patel
PRIORITY:5
CLASS:PUBLIC
BEGIN:VALARM
TRIGGER:PT180M
ACTION:DISPLAY
DESCRIPTION:Reminder
END:VALARM
END:VEVENT
END:VCALENDAR
