
BEGIN:VCALENDAR
PRODID:-//Buz Software// Calendar//EN
VERSION:2.0
METHOD:REQUEST
BEGIN:VEVENT
DTSTART:20260715T000000Z
DTEND:2026071400Z
LOCATION:Manitoba Club
TRANSP:OPAQUE
SEQUENCE:0
UID:7887_7887_7887_7887
DTSTAMP:20260425T101400Z
ORGANIZER:CN=Manitoba Club:mailto:gm@manitobaclub.mb.ca
STATUS:CONFIRMED
DESCRIPTION:
SUMMARY:Canadian Seafood | Ocean to Grill
PRIORITY:5
CLASS:PUBLIC
BEGIN:VALARM
TRIGGER:PT180M
ACTION:DISPLAY
DESCRIPTION:Reminder
END:VALARM
END:VEVENT
END:VCALENDAR
