
BEGIN:VCALENDAR
PRODID:-//Buz Software// Calendar//EN
VERSION:2.0
METHOD:REQUEST
BEGIN:VEVENT
DTSTART:20260722T000000Z
DTEND:2026072100Z
LOCATION:Manitoba Club
TRANSP:OPAQUE
SEQUENCE:0
UID:7888_7888_7888_7888
DTSTAMP:20260425T100300Z
ORGANIZER:CN=Manitoba Club:mailto:gm@manitobaclub.mb.ca
STATUS:CONFIRMED
DESCRIPTION:
SUMMARY:Brasserie | Prix Fixe Flame
PRIORITY:5
CLASS:PUBLIC
BEGIN:VALARM
TRIGGER:PT180M
ACTION:DISPLAY
DESCRIPTION:Reminder
END:VALARM
END:VEVENT
END:VCALENDAR
