
BEGIN:VCALENDAR
PRODID:-//Buz Software// Calendar//EN
VERSION:2.0
METHOD:REQUEST
BEGIN:VEVENT
DTSTART:20260729T000000Z
DTEND:2026072800Z
LOCATION:Manitoba Club
TRANSP:OPAQUE
SEQUENCE:0
UID:7889_7889_7889_7889
DTSTAMP:20260425T101000Z
ORGANIZER:CN=Manitoba Club:mailto:gm@manitobaclub.mb.ca
STATUS:CONFIRMED
DESCRIPTION:
SUMMARY:Smokehouse | Low Slow Smoke
PRIORITY:5
CLASS:PUBLIC
BEGIN:VALARM
TRIGGER:PT180M
ACTION:DISPLAY
DESCRIPTION:Reminder
END:VALARM
END:VEVENT
END:VCALENDAR
